BEGIN:VCALENDAR
VERSION:2.0
PRODID:-//Sea-Tac Noise Info//Event Calendar//EN
CALSCALE:GREGORIAN
METHOD:PUBLISH
BEGIN:VEVENT
UID:3704@seatacnoise.info
DTSTAMP:20260423T114855Z
DTSTART:20190323T210005Z
DTEND:20190323T210005Z
SUMMARY:Wilson, Reeves, Pellicciotti to host town hall meeting March 23
STATUS:CONFIRMED
END:VEVENT
END:VCALENDAR
