BEGIN:VCALENDAR
VERSION:2.0
PRODID:-//Sea-Tac Noise Info//Event Calendar//EN
CALSCALE:GREGORIAN
METHOD:PUBLISH
BEGIN:VEVENT
UID:3707@seatacnoise.info
DTSTAMP:20260423T200538Z
DTSTART:20190323T200004Z
DTEND:20190323T200004Z
SUMMARY:Adam Smith Town Hall Meeting
STATUS:CONFIRMED
END:VEVENT
END:VCALENDAR
