BEGIN:VCALENDAR
VERSION:2.0
PRODID:-//Sea-Tac Noise Info//Event Calendar//EN
CALSCALE:GREGORIAN
METHOD:PUBLISH
BEGIN:VEVENT
UID:3719@seatacnoise.info
DTSTAMP:20260423T132105Z
DTSTART:20190323T170040Z
DTEND:20190323T170040Z
SUMMARY:33rd District Democrats 2019 Town Hall
STATUS:CONFIRMED
END:VEVENT
END:VCALENDAR
