BEGIN:VCALENDAR
VERSION:2.0
PRODID:-//Sea-Tac Noise Info//Event Calendar//EN
CALSCALE:GREGORIAN
METHOD:PUBLISH
BEGIN:VEVENT
UID:3712@seatacnoise.info
DTSTAMP:20260423T132105Z
DTSTART:20190319T160058Z
DTEND:20190319T160058Z
SUMMARY:SCATBd Meeting
STATUS:CONFIRMED
END:VEVENT
END:VCALENDAR
