BEGIN:VCALENDAR
VERSION:2.0
PRODID:-//Sea-Tac Noise Info//Event Calendar//EN
CALSCALE:GREGORIAN
METHOD:PUBLISH
BEGIN:VEVENT
UID:3469@seatacnoise.info
DTSTAMP:20260423T200449Z
DTSTART:20190226T200002Z
DTEND:20190226T200002Z
SUMMARY:Port Of Seattle Commission Meeting (SAMP Update)
STATUS:CONFIRMED
END:VEVENT
END:VCALENDAR
