BEGIN:VCALENDAR
VERSION:2.0
PRODID:-//Sea-Tac Noise Info//Event Calendar//EN
CALSCALE:GREGORIAN
METHOD:PUBLISH
BEGIN:VEVENT
UID:3554@seatacnoise.info
DTSTAMP:20260423T145136Z
DTSTART:20190219T170028Z
DTEND:20190219T170028Z
SUMMARY:SCATBd Meeting
STATUS:CONFIRMED
END:VEVENT
END:VCALENDAR
