BEGIN:VCALENDAR
VERSION:2.0
PRODID:-//Sea-Tac Noise Info//Event Calendar//EN
CALSCALE:GREGORIAN
METHOD:PUBLISH
BEGIN:VEVENT
UID:3446@seatacnoise.info
DTSTAMP:20260423T172700Z
DTSTART:20190207T233030Z
DTEND:20190207T233030Z
SUMMARY:House Transportation Committee Meeting on HB1683
STATUS:CONFIRMED
END:VEVENT
END:VCALENDAR
