BEGIN:VCALENDAR
VERSION:2.0
PRODID:-//Sea-Tac Noise Info//Event Calendar//EN
CALSCALE:GREGORIAN
METHOD:PUBLISH
BEGIN:VEVENT
UID:3422@seatacnoise.info
DTSTAMP:20260423T183913Z
DTSTART:20190204T233030Z
DTEND:20190204T233030Z
SUMMARY:Senate Transportation Committee Meeting on SB5370
STATUS:CONFIRMED
END:VEVENT
END:VCALENDAR
