BEGIN:VCALENDAR
VERSION:2.0
PRODID:-//Sea-Tac Noise Info//Event Calendar//EN
CALSCALE:GREGORIAN
METHOD:PUBLISH
BEGIN:VEVENT
UID:3374@seatacnoise.info
DTSTAMP:20260423T183900Z
DTSTART:20190129T030000Z
DTEND:20190129T030000Z
SUMMARY:Burien City Council Meeting
STATUS:CONFIRMED
END:VEVENT
END:VCALENDAR
