BEGIN:VCALENDAR
VERSION:2.0
PRODID:-//Sea-Tac Noise Info//Event Calendar//EN
CALSCALE:GREGORIAN
METHOD:PUBLISH
BEGIN:VEVENT
UID:3316@seatacnoise.info
DTSTAMP:20260423T184021Z
DTSTART:20190125T030035Z
DTEND:20190125T030035Z
SUMMARY:Des Moines City Council Meeting
STATUS:CONFIRMED
END:VEVENT
END:VCALENDAR
