BEGIN:VCALENDAR
VERSION:2.0
PRODID:-//Sea-Tac Noise Info//Event Calendar//EN
CALSCALE:GREGORIAN
METHOD:PUBLISH
BEGIN:VEVENT
UID:3314@seatacnoise.info
DTSTAMP:20260423T183900Z
DTSTART:20190122T030009Z
DTEND:20190122T030009Z
SUMMARY:Burien City Council Meeting
STATUS:CONFIRMED
END:VEVENT
END:VCALENDAR
