BEGIN:VCALENDAR
VERSION:2.0
PRODID:-//Sea-Tac Noise Info//Event Calendar//EN
CALSCALE:GREGORIAN
METHOD:PUBLISH
BEGIN:VEVENT
UID:3230@seatacnoise.info
DTSTAMP:20260423T172647Z
DTSTART:20190108T030048Z
DTEND:20190108T030048Z
SUMMARY:Burien City Council Meeting
STATUS:CONFIRMED
END:VEVENT
END:VCALENDAR
