BEGIN:VCALENDAR
VERSION:2.0
PRODID:-//Sea-Tac Noise Info//Event Calendar//EN
CALSCALE:GREGORIAN
METHOD:PUBLISH
BEGIN:VEVENT
UID:3054@seatacnoise.info
DTSTAMP:20260423T172659Z
DTSTART:20181220T020005Z
DTEND:20181220T020005Z
SUMMARY:START Meeting
STATUS:CONFIRMED
END:VEVENT
END:VCALENDAR
