BEGIN:VCALENDAR
VERSION:2.0
PRODID:-//Sea-Tac Noise Info//Event Calendar//EN
CALSCALE:GREGORIAN
METHOD:PUBLISH
BEGIN:VEVENT
UID:3060@seatacnoise.info
DTSTAMP:20260423T172659Z
DTSTART:20181219T020023Z
DTEND:20181219T020023Z
SUMMARY:Burien Airport Committee Meeting
STATUS:CONFIRMED
END:VEVENT
END:VCALENDAR
