BEGIN:VCALENDAR
VERSION:2.0
PRODID:-//Sea-Tac Noise Info//Event Calendar//EN
CALSCALE:GREGORIAN
METHOD:PUBLISH
BEGIN:VEVENT
UID:2848@seatacnoise.info
DTSTAMP:20260423T172659Z
DTSTART:20181213T030056Z
DTEND:20181213T030056Z
SUMMARY:Tina Orwall @ Boulevard Park Place in Burien
STATUS:CONFIRMED
END:VEVENT
END:VCALENDAR
