BEGIN:VCALENDAR
VERSION:2.0
PRODID:-//Sea-Tac Noise Info//Event Calendar//EN
CALSCALE:GREGORIAN
METHOD:PUBLISH
BEGIN:VEVENT
UID:2924@seatacnoise.info
DTSTAMP:20260423T183850Z
DTSTART:20181207T200002Z
DTEND:20181207T200002Z
SUMMARY:Port Of Seattle Audit Committee Meeting
STATUS:CONFIRMED
END:VEVENT
END:VCALENDAR
