BEGIN:VCALENDAR
VERSION:2.0
PRODID:-//Sea-Tac Noise Info//Event Calendar//EN
CALSCALE:GREGORIAN
METHOD:PUBLISH
BEGIN:VEVENT
UID:2803@seatacnoise.info
DTSTAMP:20260423T183913Z
DTSTART:20181207T030038Z
DTEND:20181207T030038Z
SUMMARY:Des Moines City Council Study Session
STATUS:CONFIRMED
END:VEVENT
END:VCALENDAR
