BEGIN:VCALENDAR
VERSION:2.0
PRODID:-//Sea-Tac Noise Info//Event Calendar//EN
CALSCALE:GREGORIAN
METHOD:PUBLISH
BEGIN:VEVENT
UID:2704@seatacnoise.info
DTSTAMP:20260423T161243Z
DTSTART:20181107T200028Z
DTEND:20181107T200028Z
SUMMARY:Port Of Seattle Study Session
STATUS:CONFIRMED
END:VEVENT
END:VCALENDAR
