BEGIN:VCALENDAR
VERSION:2.0
PRODID:-//Sea-Tac Noise Info//Event Calendar//EN
CALSCALE:GREGORIAN
METHOD:PUBLISH
BEGIN:VEVENT
UID:2633@seatacnoise.info
DTSTAMP:20260423T161242Z
DTSTART:20181027T003048Z
DTEND:20181027T003048Z
SUMMARY:South King County Candidate Forum
STATUS:CONFIRMED
END:VEVENT
END:VCALENDAR
