BEGIN:VCALENDAR
VERSION:2.0
PRODID:-//Sea-Tac Noise Info//Event Calendar//EN
CALSCALE:GREGORIAN
METHOD:PUBLISH
BEGIN:VEVENT
UID:2586@seatacnoise.info
DTSTAMP:20260423T161241Z
DTSTART:20181012T020012Z
DTEND:20181012T020012Z
SUMMARY:Des Moines City Council Meeting
STATUS:CONFIRMED
END:VEVENT
END:VCALENDAR
