BEGIN:VCALENDAR
VERSION:2.0
PRODID:-//Sea-Tac Noise Info//Event Calendar//EN
CALSCALE:GREGORIAN
METHOD:PUBLISH
BEGIN:VEVENT
UID:2522@seatacnoise.info
DTSTAMP:20260423T114853Z
DTSTART:20180929T065934Z
DTEND:20180929T065934Z
SUMMARY:SAMP Public Comments Due!
STATUS:CONFIRMED
END:VEVENT
END:VCALENDAR
