BEGIN:VCALENDAR
VERSION:2.0
PRODID:-//Sea-Tac Noise Info//Event Calendar//EN
CALSCALE:GREGORIAN
METHOD:PUBLISH
BEGIN:VEVENT
UID:2057@seatacnoise.info
DTSTAMP:20260423T131332Z
DTSTART:20180913T003000Z
DTEND:20180913T003000Z
SUMMARY:Port Of Seattle &#8211; SAMP Environmental Review Open House (Beacon Hill &#8211; New Holy Gathering Hall)
STATUS:CONFIRMED
END:VEVENT
END:VCALENDAR
