BEGIN:VCALENDAR
VERSION:2.0
PRODID:-//Sea-Tac Noise Info//Event Calendar//EN
CALSCALE:GREGORIAN
METHOD:PUBLISH
BEGIN:VEVENT
UID:2242@seatacnoise.info
DTSTAMP:20260423T132112Z
DTSTART:20180911T190031Z
DTEND:20180911T190031Z
SUMMARY:Port Of Seattle Regular Meeting
STATUS:CONFIRMED
END:VEVENT
END:VCALENDAR
