BEGIN:VCALENDAR
VERSION:2.0
PRODID:-//Sea-Tac Noise Info//Event Calendar//EN
CALSCALE:GREGORIAN
METHOD:PUBLISH
BEGIN:VEVENT
UID:2246@seatacnoise.info
DTSTAMP:20260423T161241Z
DTSTART:20180907T020043Z
DTEND:20180907T020043Z
SUMMARY:Des Moines City Council Meeting: SAMP Discussion
STATUS:CONFIRMED
END:VEVENT
END:VCALENDAR
