BEGIN:VCALENDAR
VERSION:2.0
PRODID:-//Sea-Tac Noise Info//Event Calendar//EN
CALSCALE:GREGORIAN
METHOD:PUBLISH
BEGIN:VEVENT
UID:2184@seatacnoise.info
DTSTAMP:20260423T115140Z
DTSTART:20180828T015825Z
DTEND:20180828T015825Z
SUMMARY:Candidate Forum State Representative District 30
STATUS:CONFIRMED
END:VEVENT
END:VCALENDAR
