BEGIN:VCALENDAR
VERSION:2.0
PRODID:-//Sea-Tac Noise Info//Event Calendar//EN
CALSCALE:GREGORIAN
METHOD:PUBLISH
BEGIN:VEVENT
UID:2086@seatacnoise.info
DTSTAMP:20260423T114856Z
DTSTART:20180717T160000Z
DTEND:20180717T160000Z
SUMMARY:South County Transportation Board (SCATbd) Meeting
STATUS:CONFIRMED
END:VEVENT
END:VCALENDAR
