BEGIN:VCALENDAR
VERSION:2.0
PRODID:-//Sea-Tac Noise Info//Event Calendar//EN
CALSCALE:GREGORIAN
METHOD:PUBLISH
BEGIN:VEVENT
UID:2074@seatacnoise.info
DTSTAMP:20260423T121003Z
DTSTART:20180716T203000Z
DTEND:20180716T203000Z
SUMMARY:Quiet Skies Coalition (Burien) Press Conference
STATUS:CONFIRMED
END:VEVENT
END:VCALENDAR
