BEGIN:VCALENDAR
VERSION:2.0
PRODID:-//Sea-Tac Noise Info//Event Calendar//EN
CALSCALE:GREGORIAN
METHOD:PUBLISH
BEGIN:VEVENT
UID:2082@seatacnoise.info
DTSTAMP:20260423T114855Z
DTSTART:20180628T010000Z
DTEND:20180628T010000Z
SUMMARY:Sea-Tac Aviation Roundtable (START) Meeting
STATUS:CONFIRMED
END:VEVENT
END:VCALENDAR
