BEGIN:VCALENDAR
VERSION:2.0
PRODID:-//Sea-Tac Noise Info//Event Calendar//EN
CALSCALE:GREGORIAN
METHOD:PUBLISH
BEGIN:VEVENT
UID:2071@seatacnoise.info
DTSTAMP:20260423T114856Z
DTSTART:20180531T070000Z
DTEND:20180531T070000Z
SUMMARY:Puget Sound Regional Council: General Assembly
STATUS:CONFIRMED
END:VEVENT
END:VCALENDAR
