BEGIN:VCALENDAR
VERSION:2.0
PRODID:-//Sea-Tac Noise Info//Event Calendar//EN
CALSCALE:GREGORIAN
METHOD:PUBLISH
BEGIN:VEVENT
UID:2070@seatacnoise.info
DTSTAMP:20260423T120230Z
DTSTART:20180222T080000Z
DTEND:20180222T080000Z
SUMMARY:Puget Sound Regional Council: Discussion Of Aviation Baseline Study
STATUS:CONFIRMED
END:VEVENT
END:VCALENDAR
